BEGIN:VCALENDAR
VERSION:2.0
PRODID:-//Pajarola - ECPv6.11.2.1//NONSGML v1.0//EN
CALSCALE:GREGORIAN
METHOD:PUBLISH
X-WR-CALNAME:Pajarola
X-ORIGINAL-URL:https://pajarola.fr
X-WR-CALDESC:Évènements pour Pajarola
REFRESH-INTERVAL;VALUE=DURATION:PT1H
X-Robots-Tag:noindex
X-PUBLISHED-TTL:PT1H
BEGIN:VTIMEZONE
TZID:Europe/Paris
BEGIN:DAYLIGHT
TZOFFSETFROM:+0100
TZOFFSETTO:+0200
TZNAME:CEST
DTSTART:20260329T010000
END:DAYLIGHT
BEGIN:STANDARD
TZOFFSETFROM:+0200
TZOFFSETTO:+0100
TZNAME:CET
DTSTART:20261025T010000
END:STANDARD
END:VTIMEZONE
BEGIN:VEVENT
DTSTART;VALUE=DATE:20260423
DTEND;VALUE=DATE:20260424
DTSTAMP:20260423T055712
CREATED:20240429T072144Z
LAST-MODIFIED:20260310T110147Z
UID:10000327-1776902400-1776988799@pajarola.fr
SUMMARY:Départ des Sables d'Olonne
DESCRIPTION:Dépôt des marchandises aux Sables d’Olonne :\nau plus tard le mercredi 22 avril avant 17h.\nRetrait des marchandises à l’Île d’Yeu\nà partir du vendredi 24 avril 14h.\n\nLes dépôts et retraits des marchandises s’effectuent du lundi au vendredi de 8h00 à 12h00 et 14h00 à 17h00\nATTENTION : Les marchandises doivent être livrées en dehors des jours des départs du CASAM IV
URL:https://pajarola.fr/rotation/depart-des-sables-dolonne-3/
LOCATION:Sables d’Olonne
CATEGORIES:Départ des Sables
ATTACH;FMTTYPE=image/jpeg:https://pajarola.fr/wp-content/uploads/2020/12/Pajarola-les-sables.jpg
END:VEVENT
END:VCALENDAR